BEGIN:VCALENDAR
VERSION:2.0
PRODID:-//Westport  Journal - ECPv6.15.20//NONSGML v1.0//EN
CALSCALE:GREGORIAN
METHOD:PUBLISH
X-ORIGINAL-URL:https://westportjournal.com
X-WR-CALDESC:Events for Westport  Journal
REFRESH-INTERVAL;VALUE=DURATION:PT1H
X-Robots-Tag:noindex
X-PUBLISHED-TTL:PT1H
BEGIN:VTIMEZONE
TZID:America/New_York
BEGIN:DAYLIGHT
TZOFFSETFROM:-0500
TZOFFSETTO:-0400
TZNAME:EDT
DTSTART:20250309T070000
END:DAYLIGHT
BEGIN:STANDARD
TZOFFSETFROM:-0400
TZOFFSETTO:-0500
TZNAME:EST
DTSTART:20251102T060000
END:STANDARD
BEGIN:DAYLIGHT
TZOFFSETFROM:-0500
TZOFFSETTO:-0400
TZNAME:EDT
DTSTART:20260308T070000
END:DAYLIGHT
BEGIN:STANDARD
TZOFFSETFROM:-0400
TZOFFSETTO:-0500
TZNAME:EST
DTSTART:20261101T060000
END:STANDARD
BEGIN:DAYLIGHT
TZOFFSETFROM:-0500
TZOFFSETTO:-0400
TZNAME:EDT
DTSTART:20270314T070000
END:DAYLIGHT
BEGIN:STANDARD
TZOFFSETFROM:-0400
TZOFFSETTO:-0500
TZNAME:EST
DTSTART:20271107T060000
END:STANDARD
END:VTIMEZONE
BEGIN:VEVENT
DTSTART;TZID=America/New_York:20260516T130000
DTEND;TZID=America/New_York:20260516T140000
DTSTAMP:20260423T225126
CREATED:20260419T210728Z
LAST-MODIFIED:20260419T210728Z
UID:10003198-1778936400-1778940000@westportjournal.com
SUMMARY:Click Clack Moo
DESCRIPTION:Saturday\, May 16\, 2026 at 1PM & 4PM\nClick Clack Moo\nA TheaterWorksUSA Production\nRecommended Ages: Pre-K through 4
URL:https://westportjournal.com/events/click-clack-moo/2026-05-16/1/
LOCATION:Westport Country Playhouse\, 25 Powers Court\, Westport\, Connecticut\, 06880\, United States
ATTACH;FMTTYPE=image/jpeg:https://westportjournal.com/wp-content/uploads/2026/04/ClickClackMoo.jpg
ORGANIZER;CN="Westport Country Playhouse":MAILTO:boxoffice@westportplayhouse.org
END:VEVENT
BEGIN:VEVENT
DTSTART;TZID=America/New_York:20260516T160000
DTEND;TZID=America/New_York:20260516T170000
DTSTAMP:20260423T225126
CREATED:20260419T210728Z
LAST-MODIFIED:20260419T210728Z
UID:10003199-1778947200-1778950800@westportjournal.com
SUMMARY:Click Clack Moo
DESCRIPTION:Saturday\, May 16\, 2026 at 1PM & 4PM\nClick Clack Moo\nA TheaterWorksUSA Production\nRecommended Ages: Pre-K through 4
URL:https://westportjournal.com/events/click-clack-moo/2026-05-16/2/
LOCATION:Westport Country Playhouse\, 25 Powers Court\, Westport\, Connecticut\, 06880\, United States
ATTACH;FMTTYPE=image/jpeg:https://westportjournal.com/wp-content/uploads/2026/04/ClickClackMoo.jpg
ORGANIZER;CN="Westport Country Playhouse":MAILTO:boxoffice@westportplayhouse.org
END:VEVENT
END:VCALENDAR