BEGIN:VCALENDAR
VERSION:2.0
PRODID:-//Westport  Journal - ECPv6.15.20//NONSGML v1.0//EN
CALSCALE:GREGORIAN
METHOD:PUBLISH
X-WR-CALNAME:Westport  Journal
X-ORIGINAL-URL:https://westportjournal.com
X-WR-CALDESC:Events for Westport  Journal
REFRESH-INTERVAL;VALUE=DURATION:PT1H
X-Robots-Tag:noindex
X-PUBLISHED-TTL:PT1H
BEGIN:VTIMEZONE
TZID:America/New_York
BEGIN:DAYLIGHT
TZOFFSETFROM:-0500
TZOFFSETTO:-0400
TZNAME:EDT
DTSTART:20250309T070000
END:DAYLIGHT
BEGIN:STANDARD
TZOFFSETFROM:-0400
TZOFFSETTO:-0500
TZNAME:EST
DTSTART:20251102T060000
END:STANDARD
BEGIN:DAYLIGHT
TZOFFSETFROM:-0500
TZOFFSETTO:-0400
TZNAME:EDT
DTSTART:20260308T070000
END:DAYLIGHT
BEGIN:STANDARD
TZOFFSETFROM:-0400
TZOFFSETTO:-0500
TZNAME:EST
DTSTART:20261101T060000
END:STANDARD
BEGIN:DAYLIGHT
TZOFFSETFROM:-0500
TZOFFSETTO:-0400
TZNAME:EDT
DTSTART:20270314T070000
END:DAYLIGHT
BEGIN:STANDARD
TZOFFSETFROM:-0400
TZOFFSETTO:-0500
TZNAME:EST
DTSTART:20271107T060000
END:STANDARD
END:VTIMEZONE
BEGIN:VEVENT
DTSTART;TZID=America/New_York:20260419T140000
DTEND;TZID=America/New_York:20260419T160000
DTSTAMP:20260419T104311
CREATED:20260327T194350Z
LAST-MODIFIED:20260327T194350Z
UID:10003175-1776607200-1776614400@westportjournal.com
SUMMARY:Book to Series with Georgia Hunter\,
DESCRIPTION:Join us on Sunday\, April 19 as we welcome author Georgia Hunter and actress Eva Feiler for a conversation about the making of the series\, We Were the Lucky Ones. The pilot episode will be shown immediately following the discussion. Books will be available for purchase and signature. \nThis event is $16 for members and $20 for nonmembers. Light snacks and beverages will be served.
URL:https://westportjournal.com/events/book-to-series-with-georgia-hunter/
LOCATION:Bruce Museum\, 1 Museum Drive\, Greenwich\, Connecticut\, 06830\, United States
ATTACH;FMTTYPE=image/jpeg:https://westportjournal.com/wp-content/uploads/2026/03/tmpjwxl6jhq.jpg
END:VEVENT
BEGIN:VEVENT
DTSTART;TZID=America/New_York:20260419T150000
DTEND;TZID=America/New_York:20260419T170000
DTSTAMP:20260419T104311
CREATED:20260207T152325Z
LAST-MODIFIED:20260207T152325Z
UID:10002215-1776610800-1776618000@westportjournal.com
SUMMARY:Primary Trust
DESCRIPTION:The 2024 Pulitzer Prize winning play “Primary Trust” comes to life on the Westport Country Playhouse stage. Eboni Booth’s 2024 Pulitzer Prize-winning breakout play is an uplifting\, gentle and powerful exploration of change\, friendship\, and quiet courage. Meet Kenneth\, a creature of habit whose world is upended when his lifelong job ends – and he’s nudged into the unknown by his best friend Bert and a few unexpected encounters over mai tais at the local tiki bar. This luminous new American play draws us into a deeply human journey\, as Kenneth takes small steps into a bigger world – one where every connection holds the power to transform a life.
URL:https://westportjournal.com/events/primary-trust/2026-04-19/1/
LOCATION:Westport Country Playhouse\, 25 Powers Court\, Westport\, Connecticut\, 06880\, United States
ATTACH;FMTTYPE=image/jpeg:https://westportjournal.com/wp-content/uploads/2026/02/Primary-Trust-vertical-4-14-26.jpg
ORGANIZER;CN="Westport Country Playhouse":MAILTO:boxoffice@westportplayhouse.org
END:VEVENT
BEGIN:VEVENT
DTSTART;TZID=America/New_York:20260419T190000
DTEND;TZID=America/New_York:20260419T210000
DTSTAMP:20260419T104311
CREATED:20260207T152325Z
LAST-MODIFIED:20260207T152325Z
UID:10002216-1776625200-1776632400@westportjournal.com
SUMMARY:Primary Trust
DESCRIPTION:The 2024 Pulitzer Prize winning play “Primary Trust” comes to life on the Westport Country Playhouse stage. Eboni Booth’s 2024 Pulitzer Prize-winning breakout play is an uplifting\, gentle and powerful exploration of change\, friendship\, and quiet courage. Meet Kenneth\, a creature of habit whose world is upended when his lifelong job ends – and he’s nudged into the unknown by his best friend Bert and a few unexpected encounters over mai tais at the local tiki bar. This luminous new American play draws us into a deeply human journey\, as Kenneth takes small steps into a bigger world – one where every connection holds the power to transform a life.
URL:https://westportjournal.com/events/primary-trust/2026-04-19/2/
LOCATION:Westport Country Playhouse\, 25 Powers Court\, Westport\, Connecticut\, 06880\, United States
ATTACH;FMTTYPE=image/jpeg:https://westportjournal.com/wp-content/uploads/2026/02/Primary-Trust-vertical-4-14-26.jpg
ORGANIZER;CN="Westport Country Playhouse":MAILTO:boxoffice@westportplayhouse.org
END:VEVENT
END:VCALENDAR